BEGIN:VCALENDAR
VERSION:2.0
PRODID:spatie/icalendar-generator
DESCRIPTION:イベントホール赤レンガのイベント
X-WR-CALDESC:イベントホール赤レンガのイベント
REFRESH-INTERVAL;VALUE=DURATION:PT1440M
X-PUBLISHED-TTL:PT1440M
BEGIN:VTIMEZONE
TZID:Asia/Tokyo
BEGIN:STANDARD
DTSTART:20250125T180000Z
TZOFFSETFROM:+0900
TZOFFSETTO:+0900
END:STANDARD
END:VTIMEZONE
BEGIN:VTIMEZONE
TZID:UTC
BEGIN:STANDARD
DTSTART:20250729T224536Z
TZOFFSETFROM:+0000
TZOFFSETTO:+0000
END:STANDARD
END:VTIMEZONE
BEGIN:VEVENT
UID:19631-19621
DTSTAMP:20260425T224536Z
SUMMARY:イベントホール（全面）
LOCATION:
ORGANIZER;CN=akarenga:MAILTO:contact@iwa-akarenga.jp
DTSTART;TZID=Asia/Tokyo:20251022T180000
DTEND;TZID=Asia/Tokyo:20251022T210000
X-ALT-DESC;FMTTYPE=TEXT/HTML:
CATEGORIES:EventHall Zenmen
URL;VALUE=URI:https://www.iwa-akarenga.jp/my-calendar/?mc_id=19631&#038;vca
 l=19631
END:VEVENT
END:VCALENDAR