BEGIN:VCALENDAR
VERSION:2.0
PRODID:spatie/icalendar-generator
DESCRIPTION:イベントホール赤レンガのイベント
X-WR-CALDESC:イベントホール赤レンガのイベント
REFRESH-INTERVAL;VALUE=DURATION:PT1440M
X-PUBLISHED-TTL:PT1440M
BEGIN:VTIMEZONE
TZID:Asia/Tokyo
BEGIN:STANDARD
DTSTART:20250527T180000Z
TZOFFSETFROM:+0900
TZOFFSETTO:+0900
END:STANDARD
END:VTIMEZONE
BEGIN:VTIMEZONE
TZID:UTC
BEGIN:STANDARD
DTSTART:20250730T031155Z
TZOFFSETFROM:+0000
TZOFFSETTO:+0000
END:STANDARD
END:VTIMEZONE
BEGIN:VEVENT
UID:20647-20623
DTSTAMP:20260426T031155Z
SUMMARY:体育室
LOCATION:
ORGANIZER;CN=akarenga:MAILTO:contact@iwa-akarenga.jp
DTSTART;TZID=Asia/Tokyo:20260221T180000
DTEND;TZID=Asia/Tokyo:20260221T210000
X-ALT-DESC;FMTTYPE=TEXT/HTML:
CATEGORIES:Taiikushitsu
URL;VALUE=URI:https://www.iwa-akarenga.jp/my-calendar/?mc_id=20647&#038;vca
 l=20647
END:VEVENT
END:VCALENDAR