BEGIN:VCALENDAR
VERSION:2.0
PRODID:spatie/icalendar-generator
DESCRIPTION:イベントホール赤レンガのイベント
X-WR-CALDESC:イベントホール赤レンガのイベント
REFRESH-INTERVAL;VALUE=DURATION:PT1440M
X-PUBLISHED-TTL:PT1440M
BEGIN:VTIMEZONE
TZID:Asia/Tokyo
BEGIN:STANDARD
DTSTART:20250519T170000Z
TZOFFSETFROM:+0900
TZOFFSETTO:+0900
END:STANDARD
END:VTIMEZONE
BEGIN:VTIMEZONE
TZID:UTC
BEGIN:STANDARD
DTSTART:20250725T123218Z
TZOFFSETFROM:+0000
TZOFFSETTO:+0000
END:STANDARD
END:VTIMEZONE
BEGIN:VEVENT
UID:20729-20705
DTSTAMP:20260421T123218Z
SUMMARY:多目的室
LOCATION:
ORGANIZER;CN=akarenga:MAILTO:contact@iwa-akarenga.jp
DTSTART;TZID=Asia/Tokyo:20260213T170000
DTEND;TZID=Asia/Tokyo:20260213T190000
X-ALT-DESC;FMTTYPE=TEXT/HTML:
CATEGORIES:Tamokuteki
URL;VALUE=URI:https://www.iwa-akarenga.jp/my-calendar/?mc_id=20729&#038;vca
 l=20729
END:VEVENT
END:VCALENDAR